View In:
ArcGIS JavaScript
ArcGIS Online Map Viewer
ArcGIS Earth
ArcMap
ArcGIS Pro
View Footprint In:
ArcGIS Online Map Viewer
Service Description:
Map Name: Aerial1979
Legend
All Layers and Tables
Dynamic Legend
Dynamic All Layers
Layers:
Description:
Service Item Id: cfab6a176c4947138323041dc650417e
Copyright Text:
Spatial Reference:
26719
(26719)
Single Fused Map Cache: true
Tile Info:
- Height: 256
- Width: 256
- DPI: 96
-
Levels of Detail: 19
-
Level ID: 0
[ Start Tile, End Tile ]
- Resolution: 78108.48662314408
- Scale: 2.9521317778826106E8
-
Level ID: 1
[ Start Tile, End Tile ]
- Resolution: 39054.24331157204
- Scale: 1.4760658889413053E8
-
Level ID: 2
[ Start Tile, End Tile ]
- Resolution: 19527.12165578602
- Scale: 7.380329444706526E7
-
Level ID: 3
[ Start Tile, End Tile ]
- Resolution: 9763.56082789301
- Scale: 3.690164722353263E7
-
Level ID: 4
[ Start Tile, End Tile ]
- Resolution: 4881.780413946505
- Scale: 1.8450823611766316E7
-
Level ID: 5
[ Start Tile, End Tile ]
- Resolution: 2440.8902069732526
- Scale: 9225411.805883158
-
Level ID: 6
[ Start Tile, End Tile ]
- Resolution: 1220.4451034866263
- Scale: 4612705.902941579
-
Level ID: 7
[ Start Tile, End Tile ]
- Resolution: 610.2225517433131
- Scale: 2306352.9514707895
-
Level ID: 8
[ Start Tile, End Tile ]
- Resolution: 305.1112758716566
- Scale: 1153176.4757353947
-
Level ID: 9
[ Start Tile, End Tile ]
- Resolution: 152.5556379358283
- Scale: 576588.2378676974
-
Level ID: 10
[ Start Tile, End Tile ]
- Resolution: 76.27781896791414
- Scale: 288294.1189338487
-
Level ID: 11
[ Start Tile, End Tile ]
- Resolution: 38.13890948395707
- Scale: 144147.05946692434
-
Level ID: 12
[ Start Tile, End Tile ]
- Resolution: 19.069454741978536
- Scale: 72073.52973346217
-
Level ID: 13
[ Start Tile, End Tile ]
- Resolution: 9.534727370989268
- Scale: 36036.764866731086
-
Level ID: 14
[ Start Tile, End Tile ]
- Resolution: 4.767363685494634
- Scale: 18018.382433365543
-
Level ID: 15
[ Start Tile, End Tile ]
- Resolution: 2.383681842747317
- Scale: 9009.191216682771
-
Level ID: 16
[ Start Tile, End Tile ]
- Resolution: 1.1918409213736585
- Scale: 4504.595608341386
-
Level ID: 17
[ Start Tile, End Tile ]
- Resolution: 0.5959204606868292
- Scale: 2252.297804170693
-
Level ID: 18
[ Start Tile, End Tile ]
- Resolution: 0.2979602303434146
- Scale: 1126.1489020853464
- Format: Mixed
- Compression Quality: 75.0
- Origin: X: -9497886.287762443
Y: 9997886.287762443
- Spatial Reference: 26719
(26719)
Storage Info:
- Storage Format: esriMapCacheStorageModeCompactV2
- Packet Size: 128
Initial Extent:
XMin: 318929.5595229717
YMin: 4688696.315577264
XMax: 319251.69710274023
YMax: 4688930.892271257
Spatial Reference: 26719
(26719)
Full Extent:
XMin: 312391.7244786263
YMin: 4682986.058391669
XMax: 322770.3255151438
YMax: 4692831.401090344
Spatial Reference: 26719
(26719)
Units: esriMeters
Supported Image Format Types: PNG32,PNG24,PNG,JPG,DIB,TIFF,EMF,PS,PDF,GIF,SVG,SVGZ,BMP
Document Info:
Title: Map
Author:
Comments:
Subject:
Category:
Keywords: aerials,orthophoto
AntialiasingMode: Fast
TextAntialiasingMode: Force
Supports Dynamic Layers: true
MaxRecordCount: 2000
MaxImageHeight: 4096
MaxImageWidth: 4096
Supported Query Formats: JSON, geoJSON, PBF
Supports Query Data Elements: true
Min Scale: 288294.1189338487
Max Scale: 1126.1489020853464
Min LOD: 10
Max LOD: 18
Supports Datum Transformation: true
Child Resources:
Info
Dynamic Layer
Supported Operations:
Export Map
QueryLegends
QueryDomains
Find
Return Updates